BEGIN:VCALENDAR
VERSION:2.0
PRODID:-//Santa's Helpers - Alaska - ECPv6.15.13//NONSGML v1.0//EN
CALSCALE:GREGORIAN
METHOD:PUBLISH
X-WR-CALNAME:Santa's Helpers - Alaska
X-ORIGINAL-URL:https://santashelpersalaska.com
X-WR-CALDESC:Events for Santa's Helpers - Alaska
REFRESH-INTERVAL;VALUE=DURATION:PT1H
X-Robots-Tag:noindex
X-PUBLISHED-TTL:PT1H
BEGIN:VTIMEZONE
TZID:America/Anchorage
BEGIN:DAYLIGHT
TZOFFSETFROM:-0900
TZOFFSETTO:-0800
TZNAME:AKDT
DTSTART:20210314T110000
END:DAYLIGHT
BEGIN:STANDARD
TZOFFSETFROM:-0800
TZOFFSETTO:-0900
TZNAME:AKST
DTSTART:20211107T100000
END:STANDARD
BEGIN:DAYLIGHT
TZOFFSETFROM:-0900
TZOFFSETTO:-0800
TZNAME:AKDT
DTSTART:20220313T110000
END:DAYLIGHT
BEGIN:STANDARD
TZOFFSETFROM:-0800
TZOFFSETTO:-0900
TZNAME:AKST
DTSTART:20221106T100000
END:STANDARD
BEGIN:DAYLIGHT
TZOFFSETFROM:-0900
TZOFFSETTO:-0800
TZNAME:AKDT
DTSTART:20230312T110000
END:DAYLIGHT
BEGIN:STANDARD
TZOFFSETFROM:-0800
TZOFFSETTO:-0900
TZNAME:AKST
DTSTART:20231105T100000
END:STANDARD
END:VTIMEZONE
BEGIN:VEVENT
DTSTART;VALUE=DATE:20221219
DTEND;VALUE=DATE:20221220
DTSTAMP:20260422T050028
CREATED:20221119T160909Z
LAST-MODIFIED:20221119T160909Z
UID:821-1671408000-1671494399@santashelpersalaska.com
SUMMARY:PU day
DESCRIPTION:
URL:https://santashelpersalaska.com/event/pu-day/
LOCATION:Food Bank\, 725 26th Ave STE 101\, Fairbanks\, Alaska\, 99701
END:VEVENT
END:VCALENDAR