BEGIN:VCALENDAR
VERSION:2.0
PRODID:-//Santa's Helpers - Alaska - ECPv6.15.13//NONSGML v1.0//EN
CALSCALE:GREGORIAN
METHOD:PUBLISH
X-WR-CALNAME:Santa's Helpers - Alaska
X-ORIGINAL-URL:https://santashelpersalaska.com
X-WR-CALDESC:Events for Santa's Helpers - Alaska
REFRESH-INTERVAL;VALUE=DURATION:PT1H
X-Robots-Tag:noindex
X-PUBLISHED-TTL:PT1H
BEGIN:VTIMEZONE
TZID:America/Anchorage
BEGIN:DAYLIGHT
TZOFFSETFROM:-0900
TZOFFSETTO:-0800
TZNAME:AKDT
DTSTART:20240310T110000
END:DAYLIGHT
BEGIN:STANDARD
TZOFFSETFROM:-0800
TZOFFSETTO:-0900
TZNAME:AKST
DTSTART:20241103T100000
END:STANDARD
BEGIN:DAYLIGHT
TZOFFSETFROM:-0900
TZOFFSETTO:-0800
TZNAME:AKDT
DTSTART:20250309T110000
END:DAYLIGHT
BEGIN:STANDARD
TZOFFSETFROM:-0800
TZOFFSETTO:-0900
TZNAME:AKST
DTSTART:20251102T100000
END:STANDARD
BEGIN:DAYLIGHT
TZOFFSETFROM:-0900
TZOFFSETTO:-0800
TZNAME:AKDT
DTSTART:20260308T110000
END:DAYLIGHT
BEGIN:STANDARD
TZOFFSETFROM:-0800
TZOFFSETTO:-0900
TZNAME:AKST
DTSTART:20261101T100000
END:STANDARD
END:VTIMEZONE
BEGIN:VEVENT
DTSTART;TZID=America/Anchorage:20251220T160000
DTEND;TZID=America/Anchorage:20251220T180000
DTSTAMP:20260422T150355
CREATED:20251123T001250Z
LAST-MODIFIED:20251123T001419Z
UID:1912-1766246400-1766253600@santashelpersalaska.com
SUMMARY:Cold Box Building Day
DESCRIPTION:We need your help to put together cold boxes at the food bank.
URL:https://santashelpersalaska.com/event/cold-box-building-day/
LOCATION:Food Bank\, 725 26th Ave STE 101\, Fairbanks\, Alaska\, 99701
END:VEVENT
BEGIN:VEVENT
DTSTART;TZID=America/Anchorage:20251221T110000
DTEND;TZID=America/Anchorage:20251221T163000
DTSTAMP:20260422T150355
CREATED:20251123T002107Z
LAST-MODIFIED:20251123T003009Z
UID:1916-1766314800-1766334600@santashelpersalaska.com
SUMMARY:Delivery Day
DESCRIPTION:We need some help loading trucks with the food boxes and family bags and delivering the boxes and bags. We will be meeting at the food bank and Nissan.
URL:https://santashelpersalaska.com/event/delivery-day-3/
END:VEVENT
BEGIN:VEVENT
DTSTART;TZID=America/Anchorage:20251222T120000
DTEND;TZID=America/Anchorage:20251222T160000
DTSTAMP:20260422T150355
CREATED:20251123T003441Z
LAST-MODIFIED:20251123T003511Z
UID:1920-1766404800-1766419200@santashelpersalaska.com
SUMMARY:Pick Up Day
DESCRIPTION:
URL:https://santashelpersalaska.com/event/pick-up-day/
LOCATION:Food Bank\, 725 26th Ave STE 101\, Fairbanks\, Alaska\, 99701
END:VEVENT
END:VCALENDAR